BEGIN:VCALENDAR
VERSION:2.0
PRODID:-//Ocan - ECPv6.15.20//NONSGML v1.0//EN
CALSCALE:GREGORIAN
METHOD:PUBLISH
X-ORIGINAL-URL:https://ocan.be
X-WR-CALDESC:Évènements pour Ocan
REFRESH-INTERVAL;VALUE=DURATION:PT1H
X-Robots-Tag:noindex
X-PUBLISHED-TTL:PT1H
BEGIN:VTIMEZONE
TZID:Europe/Paris
BEGIN:DAYLIGHT
TZOFFSETFROM:+0100
TZOFFSETTO:+0200
TZNAME:CEST
DTSTART:20220327T010000
END:DAYLIGHT
BEGIN:STANDARD
TZOFFSETFROM:+0200
TZOFFSETTO:+0100
TZNAME:CET
DTSTART:20221030T010000
END:STANDARD
BEGIN:DAYLIGHT
TZOFFSETFROM:+0100
TZOFFSETTO:+0200
TZNAME:CEST
DTSTART:20230326T010000
END:DAYLIGHT
BEGIN:STANDARD
TZOFFSETFROM:+0200
TZOFFSETTO:+0100
TZNAME:CET
DTSTART:20231029T010000
END:STANDARD
BEGIN:DAYLIGHT
TZOFFSETFROM:+0100
TZOFFSETTO:+0200
TZNAME:CEST
DTSTART:20240331T010000
END:DAYLIGHT
BEGIN:STANDARD
TZOFFSETFROM:+0200
TZOFFSETTO:+0100
TZNAME:CET
DTSTART:20241027T010000
END:STANDARD
END:VTIMEZONE
BEGIN:VEVENT
DTSTART;VALUE=DATE:20230611
DTEND;VALUE=DATE:20230612
DTSTAMP:20260423T123137
CREATED:20230120T100503Z
LAST-MODIFIED:20230602T071626Z
UID:2497-1686441600-1686527999@ocan.be
SUMMARY:Circuit de l'amitié 3ème manche FAC
DESCRIPTION:Horaire et inscription 
URL:https://ocan.be/event/circuit-de-lamitie-3eme-manche-fac/
LOCATION:Plateau des Trixhes\, Rue du beau site\, Flémalle-Haute\, Liège\, 4440\, Belgique
CATEGORIES:Compétitions extérieures
END:VEVENT
BEGIN:VEVENT
DTSTART;TZID=Europe/Paris:20230624T080000
DTEND;TZID=Europe/Paris:20230624T170000
DTSTAMP:20260423T123137
CREATED:20230228T134429Z
LAST-MODIFIED:20230602T071857Z
UID:2542-1687593600-1687626000@ocan.be
SUMMARY:Challenge Eric De Meu Arch - Ciney
DESCRIPTION:Horaire Challenge BPM Eric de Meu 2023 – ARCH \n 
URL:https://ocan.be/event/challenge-eric-de-meu-arch-ciney/
LOCATION:Complexe de Rebompré\, Chemin de Rebompré 17\, Ciney\, Namur\, 5590\, Belgique
CATEGORIES:Compétitions extérieures
END:VEVENT
END:VCALENDAR