BEGIN:VCALENDAR
VERSION:2.0
PRODID:-//Ocan - ECPv6.15.20//NONSGML v1.0//EN
CALSCALE:GREGORIAN
METHOD:PUBLISH
X-ORIGINAL-URL:https://ocan.be
X-WR-CALDESC:Évènements pour Ocan
REFRESH-INTERVAL;VALUE=DURATION:PT1H
X-Robots-Tag:noindex
X-PUBLISHED-TTL:PT1H
BEGIN:VTIMEZONE
TZID:Europe/Paris
BEGIN:DAYLIGHT
TZOFFSETFROM:+0100
TZOFFSETTO:+0200
TZNAME:CEST
DTSTART:20230326T010000
END:DAYLIGHT
BEGIN:STANDARD
TZOFFSETFROM:+0200
TZOFFSETTO:+0100
TZNAME:CET
DTSTART:20231029T010000
END:STANDARD
BEGIN:DAYLIGHT
TZOFFSETFROM:+0100
TZOFFSETTO:+0200
TZNAME:CEST
DTSTART:20240331T010000
END:DAYLIGHT
BEGIN:STANDARD
TZOFFSETFROM:+0200
TZOFFSETTO:+0100
TZNAME:CET
DTSTART:20241027T010000
END:STANDARD
BEGIN:DAYLIGHT
TZOFFSETFROM:+0100
TZOFFSETTO:+0200
TZNAME:CEST
DTSTART:20250330T010000
END:DAYLIGHT
BEGIN:STANDARD
TZOFFSETFROM:+0200
TZOFFSETTO:+0100
TZNAME:CET
DTSTART:20251026T010000
END:STANDARD
END:VTIMEZONE
BEGIN:VEVENT
DTSTART;TZID=Europe/Paris:20240114T080000
DTEND;TZID=Europe/Paris:20240114T170000
DTSTAMP:20260423T000015
CREATED:20231108T124726Z
LAST-MODIFIED:20231108T124726Z
UID:2677-1705219200-1705251600@ocan.be
SUMMARY:Cross de Wellin
DESCRIPTION:
URL:https://ocan.be/event/cross-de-wellin/
LOCATION:Centre sportif de Wellin\, Rue Pâchis Lamkin 47\, Wellin\, Namur\, 6920\, Belgique
CATEGORIES:Compétitions extérieures
END:VEVENT
BEGIN:VEVENT
DTSTART;TZID=Europe/Paris:20240120T080000
DTEND;TZID=Europe/Paris:20240120T170000
DTSTAMP:20260423T000015
CREATED:20231108T124846Z
LAST-MODIFIED:20240116T135242Z
UID:2679-1705737600-1705770000@ocan.be
SUMMARY:Meeting Indoor de Malonne
DESCRIPTION:Horaire meeting_indoor_smac_20_janvier_2024_
URL:https://ocan.be/event/meeting-indoor-de-malonne/
LOCATION:Hall indoor de Malonne\, Route de la Navinne\, 84\, Malonne\, Namur\, 5020\, Belgique
CATEGORIES:Compétitions extérieures
END:VEVENT
END:VCALENDAR