BEGIN:VCALENDAR
VERSION:2.0
PRODID:-//Ocan - ECPv6.15.20//NONSGML v1.0//EN
CALSCALE:GREGORIAN
METHOD:PUBLISH
X-WR-CALNAME:Ocan
X-ORIGINAL-URL:https://ocan.be
X-WR-CALDESC:Évènements pour Ocan
REFRESH-INTERVAL;VALUE=DURATION:PT1H
X-Robots-Tag:noindex
X-PUBLISHED-TTL:PT1H
BEGIN:VTIMEZONE
TZID:Europe/Paris
BEGIN:DAYLIGHT
TZOFFSETFROM:+0100
TZOFFSETTO:+0200
TZNAME:CEST
DTSTART:20230326T010000
END:DAYLIGHT
BEGIN:STANDARD
TZOFFSETFROM:+0200
TZOFFSETTO:+0100
TZNAME:CET
DTSTART:20231029T010000
END:STANDARD
BEGIN:DAYLIGHT
TZOFFSETFROM:+0100
TZOFFSETTO:+0200
TZNAME:CEST
DTSTART:20240331T010000
END:DAYLIGHT
BEGIN:STANDARD
TZOFFSETFROM:+0200
TZOFFSETTO:+0100
TZNAME:CET
DTSTART:20241027T010000
END:STANDARD
BEGIN:DAYLIGHT
TZOFFSETFROM:+0100
TZOFFSETTO:+0200
TZNAME:CEST
DTSTART:20250330T010000
END:DAYLIGHT
BEGIN:STANDARD
TZOFFSETFROM:+0200
TZOFFSETTO:+0100
TZNAME:CET
DTSTART:20251026T010000
END:STANDARD
END:VTIMEZONE
BEGIN:VEVENT
DTSTART;TZID=Europe/Paris:20240811T080000
DTEND;TZID=Europe/Paris:20240811T170000
DTSTAMP:20260422T113156
CREATED:20240228T145852Z
LAST-MODIFIED:20240228T145852Z
UID:2740-1723363200-1723395600@ocan.be
SUMMARY:Cinquième manche du circuit de l'amitié - Seraing
DESCRIPTION:
URL:https://ocan.be/event/cinquieme-manche-du-circuit-de-lamitie-seraing/
LOCATION:Seraing Athlétisme – Piste Philippe Wathelet\, Avenue des Puddleurs\, 51\, Seraing\, Liège\, 4100\, Belgique
CATEGORIES:Compétitions extérieures
END:VEVENT
END:VCALENDAR