BEGIN:VCALENDAR
VERSION:2.0
PRODID:-//Ocan - ECPv6.15.20//NONSGML v1.0//EN
CALSCALE:GREGORIAN
METHOD:PUBLISH
X-WR-CALNAME:Ocan
X-ORIGINAL-URL:https://ocan.be
X-WR-CALDESC:Évènements pour Ocan
REFRESH-INTERVAL;VALUE=DURATION:PT1H
X-Robots-Tag:noindex
X-PUBLISHED-TTL:PT1H
BEGIN:VTIMEZONE
TZID:Europe/Paris
BEGIN:DAYLIGHT
TZOFFSETFROM:+0100
TZOFFSETTO:+0200
TZNAME:CEST
DTSTART:20220327T010000
END:DAYLIGHT
BEGIN:STANDARD
TZOFFSETFROM:+0200
TZOFFSETTO:+0100
TZNAME:CET
DTSTART:20221030T010000
END:STANDARD
BEGIN:DAYLIGHT
TZOFFSETFROM:+0100
TZOFFSETTO:+0200
TZNAME:CEST
DTSTART:20230326T010000
END:DAYLIGHT
BEGIN:STANDARD
TZOFFSETFROM:+0200
TZOFFSETTO:+0100
TZNAME:CET
DTSTART:20231029T010000
END:STANDARD
BEGIN:DAYLIGHT
TZOFFSETFROM:+0100
TZOFFSETTO:+0200
TZNAME:CEST
DTSTART:20240331T010000
END:DAYLIGHT
BEGIN:STANDARD
TZOFFSETFROM:+0200
TZOFFSETTO:+0100
TZNAME:CET
DTSTART:20241027T010000
END:STANDARD
END:VTIMEZONE
BEGIN:VEVENT
DTSTART;VALUE=DATE:20230723
DTEND;VALUE=DATE:20230724
DTSTAMP:20260423T123304
CREATED:20230120T110013Z
LAST-MODIFIED:20230421T073442Z
UID:2506-1690070400-1690156799@ocan.be
SUMMARY:Circuit de l'amitié 4ème manche Huy
DESCRIPTION:
URL:https://ocan.be/event/circuit-de-lamitie-4eme-manche-huy/
LOCATION:Complexe Lucien Gustin\, Rue d'Avernas 9\, Hannut\, Liège\, 4280\, Belgique
CATEGORIES:Compétitions extérieures
ORGANIZER;CN="Huy Athletic Club":MAILTO:president@huy-athle.be
END:VEVENT
END:VCALENDAR