BEGIN:VCALENDAR
VERSION:2.0
PRODID:-//Ocan - ECPv6.15.20//NONSGML v1.0//EN
CALSCALE:GREGORIAN
METHOD:PUBLISH
X-ORIGINAL-URL:https://ocan.be
X-WR-CALDESC:Évènements pour Ocan
REFRESH-INTERVAL;VALUE=DURATION:PT1H
X-Robots-Tag:noindex
X-PUBLISHED-TTL:PT1H
BEGIN:VTIMEZONE
TZID:Europe/Paris
BEGIN:DAYLIGHT
TZOFFSETFROM:+0100
TZOFFSETTO:+0200
TZNAME:CEST
DTSTART:20230326T010000
END:DAYLIGHT
BEGIN:STANDARD
TZOFFSETFROM:+0200
TZOFFSETTO:+0100
TZNAME:CET
DTSTART:20231029T010000
END:STANDARD
BEGIN:DAYLIGHT
TZOFFSETFROM:+0100
TZOFFSETTO:+0200
TZNAME:CEST
DTSTART:20240331T010000
END:DAYLIGHT
BEGIN:STANDARD
TZOFFSETFROM:+0200
TZOFFSETTO:+0100
TZNAME:CET
DTSTART:20241027T010000
END:STANDARD
BEGIN:DAYLIGHT
TZOFFSETFROM:+0100
TZOFFSETTO:+0200
TZNAME:CEST
DTSTART:20250330T010000
END:DAYLIGHT
BEGIN:STANDARD
TZOFFSETFROM:+0200
TZOFFSETTO:+0100
TZNAME:CET
DTSTART:20251026T010000
END:STANDARD
END:VTIMEZONE
BEGIN:VEVENT
DTSTART;TZID=Europe/Paris:20240929T080000
DTEND;TZID=Europe/Paris:20240929T170000
DTSTAMP:20260422T115722
CREATED:20240228T150159Z
LAST-MODIFIED:20240415T131200Z
UID:2742-1727596800-1727629200@ocan.be
SUMMARY:Sixième manche du circuit de l'amitié - Hannut
DESCRIPTION:
URL:https://ocan.be/event/sixieme-manche-du-circuit-de-lamitie-hannut/
LOCATION:Complexe Lucien Gustin\, Rue d'Avernas 9\, Hannut\, Liège\, 4280\, Belgique
CATEGORIES:Compétitions extérieures
END:VEVENT
END:VCALENDAR