BEGIN:VCALENDAR
VERSION:2.0
PRODID:-//Ocan - ECPv6.15.20//NONSGML v1.0//EN
CALSCALE:GREGORIAN
METHOD:PUBLISH
X-ORIGINAL-URL:https://ocan.be
X-WR-CALDESC:Évènements pour Ocan
REFRESH-INTERVAL;VALUE=DURATION:PT1H
X-Robots-Tag:noindex
X-PUBLISHED-TTL:PT1H
BEGIN:VTIMEZONE
TZID:Europe/Paris
BEGIN:DAYLIGHT
TZOFFSETFROM:+0100
TZOFFSETTO:+0200
TZNAME:CEST
DTSTART:20220327T010000
END:DAYLIGHT
BEGIN:STANDARD
TZOFFSETFROM:+0200
TZOFFSETTO:+0100
TZNAME:CET
DTSTART:20221030T010000
END:STANDARD
BEGIN:DAYLIGHT
TZOFFSETFROM:+0100
TZOFFSETTO:+0200
TZNAME:CEST
DTSTART:20230326T010000
END:DAYLIGHT
BEGIN:STANDARD
TZOFFSETFROM:+0200
TZOFFSETTO:+0100
TZNAME:CET
DTSTART:20231029T010000
END:STANDARD
BEGIN:DAYLIGHT
TZOFFSETFROM:+0100
TZOFFSETTO:+0200
TZNAME:CEST
DTSTART:20240331T010000
END:DAYLIGHT
BEGIN:STANDARD
TZOFFSETFROM:+0200
TZOFFSETTO:+0100
TZNAME:CET
DTSTART:20241027T010000
END:STANDARD
END:VTIMEZONE
BEGIN:VEVENT
DTSTART;VALUE=DATE:20230806
DTEND;VALUE=DATE:20230807
DTSTAMP:20260425T192744
CREATED:20230120T105146Z
LAST-MODIFIED:20230421T073542Z
UID:2501-1691280000-1691366399@ocan.be
SUMMARY:Circuit de l'amitié 5ème manche Seraing
DESCRIPTION:
URL:https://ocan.be/event/circuit-de-lamitie-5eme-manche-seraing/
LOCATION:Seraing Athlétisme – Piste Philippe Wathelet\, Avenue des Puddleurs\, 51\, Seraing\, Liège\, 4100\, Belgique
CATEGORIES:Compétitions extérieures
END:VEVENT
BEGIN:VEVENT
DTSTART;VALUE=DATE:20230819
DTEND;VALUE=DATE:20230821
DTSTAMP:20260425T192744
CREATED:20221102T115323Z
LAST-MODIFIED:20221102T115323Z
UID:2391-1692403200-1692575999@ocan.be
SUMMARY:Championnats de Belgique d'épreuves combinées Cad/Scol/Jun/Sen/Mas
DESCRIPTION:
URL:https://ocan.be/event/championnats-de-belgique-depreuves-combinees-cad-scol-jun-sen-mas/
LOCATION:Namur
CATEGORIES:Championnats
END:VEVENT
BEGIN:VEVENT
DTSTART;VALUE=DATE:20230826
DTEND;VALUE=DATE:20230827
DTSTAMP:20260425T192744
CREATED:20221102T115404Z
LAST-MODIFIED:20221102T115630Z
UID:2393-1693008000-1693094399@ocan.be
SUMMARY:Championnats LBFA Cadets et Scolaires
DESCRIPTION:
URL:https://ocan.be/event/championnats-lbfa-cadets-et-scolaires/
LOCATION:Namur
CATEGORIES:Championnats
END:VEVENT
BEGIN:VEVENT
DTSTART;VALUE=DATE:20230827
DTEND;VALUE=DATE:20230828
DTSTAMP:20260425T192744
CREATED:20230120T105832Z
LAST-MODIFIED:20230421T073614Z
UID:2503-1693094400-1693180799@ocan.be
SUMMARY:Circuit de l'amitié 6ème manche FCHA
DESCRIPTION:
URL:https://ocan.be/event/circuit-de-lamitie-6eme-manche-fcha/
LOCATION:Complexe Lucien Gustin\, Rue d'Avernas 9\, Hannut\, Liège\, 4280\, Belgique
CATEGORIES:Compétitions extérieures
END:VEVENT
END:VCALENDAR