BEGIN:VCALENDAR
VERSION:2.0
PRODID:-//Ocan - ECPv6.15.20//NONSGML v1.0//EN
CALSCALE:GREGORIAN
METHOD:PUBLISH
X-ORIGINAL-URL:https://ocan.be
X-WR-CALDESC:Évènements pour Ocan
REFRESH-INTERVAL;VALUE=DURATION:PT1H
X-Robots-Tag:noindex
X-PUBLISHED-TTL:PT1H
BEGIN:VTIMEZONE
TZID:Europe/Paris
BEGIN:DAYLIGHT
TZOFFSETFROM:+0100
TZOFFSETTO:+0200
TZNAME:CEST
DTSTART:20220327T010000
END:DAYLIGHT
BEGIN:STANDARD
TZOFFSETFROM:+0200
TZOFFSETTO:+0100
TZNAME:CET
DTSTART:20221030T010000
END:STANDARD
BEGIN:DAYLIGHT
TZOFFSETFROM:+0100
TZOFFSETTO:+0200
TZNAME:CEST
DTSTART:20230326T010000
END:DAYLIGHT
BEGIN:STANDARD
TZOFFSETFROM:+0200
TZOFFSETTO:+0100
TZNAME:CET
DTSTART:20231029T010000
END:STANDARD
BEGIN:DAYLIGHT
TZOFFSETFROM:+0100
TZOFFSETTO:+0200
TZNAME:CEST
DTSTART:20240331T010000
END:DAYLIGHT
BEGIN:STANDARD
TZOFFSETFROM:+0200
TZOFFSETTO:+0100
TZNAME:CET
DTSTART:20241027T010000
END:STANDARD
END:VTIMEZONE
BEGIN:VEVENT
DTSTART;TZID=Europe/Paris:20231105T120000
DTEND;TZID=Europe/Paris:20231105T170000
DTSTAMP:20260425T150549
CREATED:20231104T154634Z
LAST-MODIFIED:20231104T154634Z
UID:2660-1699185600-1699203600@ocan.be
SUMMARY:Cross de l'ARCH
DESCRIPTION:
URL:https://ocan.be/event/cross-de-larch/
LOCATION:Parc Saint Roch – ARCH\, Parc Saint Roch\, Ciney\, Namur\, 5590\, Belgique
CATEGORIES:Compétitions extérieures
END:VEVENT
BEGIN:VEVENT
DTSTART;TZID=Europe/Paris:20231112T120000
DTEND;TZID=Europe/Paris:20231112T150000
DTSTAMP:20260425T150549
CREATED:20231104T160036Z
LAST-MODIFIED:20231111T190008Z
UID:2663-1699790400-1699801200@ocan.be
SUMMARY:Cross de l'OCAN
DESCRIPTION:cross horaire2023 \nParcours cross 2023
URL:https://ocan.be/event/cross-de-locan/
LOCATION:Ecole d’équitation Gesves\, Rue du Haras\, 16\, Gesves\, Namur\, 5340\, Belgique
CATEGORIES:Compétitions OCAN
ORGANIZER;CN="OCAN":MAILTO:perrine.ocan@gmail.com
END:VEVENT
BEGIN:VEVENT
DTSTART;TZID=Europe/Paris:20231119T110000
DTEND;TZID=Europe/Paris:20231119T170000
DTSTAMP:20260425T150549
CREATED:20231108T123959Z
LAST-MODIFIED:20231108T123959Z
UID:2670-1700391600-1700413200@ocan.be
SUMMARY:Championnat de Belgique de Cross Hulshout
DESCRIPTION:
URL:https://ocan.be/event/championnat-de-belgique-de-cross-hulshout/
LOCATION:Hulshout\, Industriepark 7\, Hulshout\, 2235\, Belgique
CATEGORIES:Championnats
END:VEVENT
BEGIN:VEVENT
DTSTART;TZID=Europe/Paris:20231125T180000
DTEND;TZID=Europe/Paris:20231126T020000
DTSTAMP:20260425T150549
CREATED:20231104T160614Z
LAST-MODIFIED:20231104T160614Z
UID:2666-1700935200-1700964000@ocan.be
SUMMARY:Souper du club
DESCRIPTION:
URL:https://ocan.be/event/souper-du-club-2/
LOCATION:Salle Communale de Sclayn\, Rue Dr Parent 275\, Andenne\, Namur\, 5300\, Belgique
CATEGORIES:Activités
ORGANIZER;CN="OCAN":MAILTO:perrine.ocan@gmail.com
END:VEVENT
END:VCALENDAR